BEGIN:VCALENDAR
VERSION:2.0
PRODID:-//Carnegie Arts Center - ECPv6.15.20//NONSGML v1.0//EN
CALSCALE:GREGORIAN
METHOD:PUBLISH
X-WR-CALNAME:Carnegie Arts Center
X-ORIGINAL-URL:https://carnegieartsturlock.org
X-WR-CALDESC:Events for Carnegie Arts Center
REFRESH-INTERVAL;VALUE=DURATION:PT1H
X-Robots-Tag:noindex
X-PUBLISHED-TTL:PT1H
BEGIN:VTIMEZONE
TZID:America/Los_Angeles
BEGIN:DAYLIGHT
TZOFFSETFROM:-0800
TZOFFSETTO:-0700
TZNAME:PDT
DTSTART:20250309T100000
END:DAYLIGHT
BEGIN:STANDARD
TZOFFSETFROM:-0700
TZOFFSETTO:-0800
TZNAME:PST
DTSTART:20251102T090000
END:STANDARD
BEGIN:DAYLIGHT
TZOFFSETFROM:-0800
TZOFFSETTO:-0700
TZNAME:PDT
DTSTART:20260308T100000
END:DAYLIGHT
BEGIN:STANDARD
TZOFFSETFROM:-0700
TZOFFSETTO:-0800
TZNAME:PST
DTSTART:20261101T090000
END:STANDARD
BEGIN:DAYLIGHT
TZOFFSETFROM:-0800
TZOFFSETTO:-0700
TZNAME:PDT
DTSTART:20270314T100000
END:DAYLIGHT
BEGIN:STANDARD
TZOFFSETFROM:-0700
TZOFFSETTO:-0800
TZNAME:PST
DTSTART:20271107T090000
END:STANDARD
END:VTIMEZONE
BEGIN:VEVENT
DTSTART;TZID=America/Los_Angeles:20260421T173000
DTEND;TZID=America/Los_Angeles:20260421T183000
DTSTAMP:20260423T014033
CREATED:20260123T231732Z
LAST-MODIFIED:20260123T231732Z
UID:5000-1776792600-1776796200@carnegieartsturlock.org
SUMMARY:Art Chat Happy Hour
DESCRIPTION:Join us for Art Chat Happy Hour\, a free\, monthly gathering for informal discussion about current issues and ideas in the arts! \nClick here for articles and videos to get you thinking about this month’s topic. (Articles and videos are updated after each meeting.)
URL:https://carnegieartsturlock.org/calendar/art-chat-happy-hour-30/
LOCATION:Carnegie Arts Center\, 250 N. Broadway\, Turlock\, CA\, 95380\, United States
CATEGORIES:Art Chat
END:VEVENT
END:VCALENDAR