BEGIN:VCALENDAR
VERSION:2.0
PRODID:-//Carnegie Arts Center - ECPv6.15.20//NONSGML v1.0//EN
CALSCALE:GREGORIAN
METHOD:PUBLISH
X-ORIGINAL-URL:https://carnegieartsturlock.org
X-WR-CALDESC:Events for Carnegie Arts Center
REFRESH-INTERVAL;VALUE=DURATION:PT1H
X-Robots-Tag:noindex
X-PUBLISHED-TTL:PT1H
BEGIN:VTIMEZONE
TZID:America/Los_Angeles
BEGIN:DAYLIGHT
TZOFFSETFROM:-0800
TZOFFSETTO:-0700
TZNAME:PDT
DTSTART:20250309T100000
END:DAYLIGHT
BEGIN:STANDARD
TZOFFSETFROM:-0700
TZOFFSETTO:-0800
TZNAME:PST
DTSTART:20251102T090000
END:STANDARD
BEGIN:DAYLIGHT
TZOFFSETFROM:-0800
TZOFFSETTO:-0700
TZNAME:PDT
DTSTART:20260308T100000
END:DAYLIGHT
BEGIN:STANDARD
TZOFFSETFROM:-0700
TZOFFSETTO:-0800
TZNAME:PST
DTSTART:20261101T090000
END:STANDARD
BEGIN:DAYLIGHT
TZOFFSETFROM:-0800
TZOFFSETTO:-0700
TZNAME:PDT
DTSTART:20270314T100000
END:DAYLIGHT
BEGIN:STANDARD
TZOFFSETFROM:-0700
TZOFFSETTO:-0800
TZNAME:PST
DTSTART:20271107T090000
END:STANDARD
END:VTIMEZONE
BEGIN:VEVENT
DTSTART;TZID=America/Los_Angeles:20260411T100000
DTEND;TZID=America/Los_Angeles:20260411T110000
DTSTAMP:20260421T082446
CREATED:20260123T231333Z
LAST-MODIFIED:20260123T231333Z
UID:4993-1775901600-1775905200@carnegieartsturlock.org
SUMMARY:Volunteer Information Meeting
DESCRIPTION:With exhibits\, programs\, and special events continuing this spring\, volunteers will be busy! Join us to learn about all the ways you can be involved with the Arts Center. \nNo RSVP required.
URL:https://carnegieartsturlock.org/calendar/volunteer-information-meeting-26/
LOCATION:Carnegie Arts Center\, 250 N. Broadway\, Turlock\, CA\, 95380\, United States
CATEGORIES:Volunteer Information Meeting
END:VEVENT
END:VCALENDAR